BEGIN:VCALENDAR
VERSION:2.0
PRODID:-//Library Market//iCal Export//EN
BEGIN:VEVENT
SUMMARY:Humans Anonymous
UID:11257
DTSTAMP:20260423T082800Z
DTSTART:20260527T000000Z
DTEND:20260527T020000Z
LOCATION:215 E Goodwin St, Prescott, AZ 86303, United States
ROOM: Bump Conference Room
DESCRIPTION:One of the greatest benefits of the twelve step program has be
 en the camaraderie. This group is a place where you can come to seek suppo
 rt without having a designated problem. Just being human can be challengin
 g enough at times. If you&#039;d like to come and join us to have support 
 for dealing with the challenges of being human we would love to have you.
URL:https://prescottpl.librarycalendar.com/event/humans-anonymous-11257
END:VEVENT
END:VCALENDAR
