BEGIN:VCALENDAR
VERSION:2.0
PRODID:-//Library Market//iCal Export//EN
BEGIN:VEVENT
SUMMARY:NVC Study Group
UID:11244
DTSTAMP:20260426T002400Z
DTSTART:20260816T210000Z
DTEND:20260816T233000Z
LOCATION:215 E Goodwin St, Prescott, AZ 86303, United States
ROOM: Founders Suite B
DESCRIPTION:NVC Skill building and Empathy practice
URL:https://prescottpl.librarycalendar.com/event/nvc-study-group-11244
END:VEVENT
END:VCALENDAR
