BEGIN:VCALENDAR
VERSION:2.0
PRODID:-//Library Market//iCal Export//EN
BEGIN:VEVENT
SUMMARY:Personal Finance 101 Workshop
UID:11236
DTSTAMP:20260425T132300Z
DTSTART:20260530T183000Z
DTEND:20260530T220000Z
LOCATION:215 E Goodwin St, Prescott, AZ 86303, United States
ROOM: Founders Suite A
DESCRIPTION:Workshop on how people can manage their money through investme
 nts and how to handle their personal finances.
URL:https://prescottpl.librarycalendar.com/event/personal-finance-101-work
 shop-11236
END:VEVENT
END:VCALENDAR
