BEGIN:VCALENDAR
VERSION:2.0
PRODID:-//Library Market//iCal Export//EN
BEGIN:VEVENT
SUMMARY:YavButtons Club
UID:11228
DTSTAMP:20260423T082800Z
DTSTART:20260504T170000Z
DTEND:20260504T190000Z
LOCATION:215 E Goodwin St, Prescott, AZ 86303, United States
ROOM: Elsea Conference Room
DESCRIPTION:Club meeting
URL:https://prescottpl.librarycalendar.com/event/yavbuttons-club-11228
END:VEVENT
END:VCALENDAR
