BEGIN:VCALENDAR
VERSION:2.0
PRODID:-//Library Market//iCal Export//EN
BEGIN:VEVENT
SUMMARY:HealingStrong Support Group
UID:11217
DTSTAMP:20260420T191900Z
DTSTART:20260722T003000Z
DTEND:20260722T023000Z
LOCATION:215 E Goodwin St, Prescott, AZ 86303, United States
ROOM: Elsea Conference Room
DESCRIPTION:Support group for anyone healing from cancer or any other dise
 ase.
URL:https://prescottpl.librarycalendar.com/event/healingstrong-support-gro
 up-11217
END:VEVENT
END:VCALENDAR
