BEGIN:VCALENDAR
VERSION:2.0
PRODID:-//Library Market//iCal Export//EN
BEGIN:VEVENT
SUMMARY:Tie Dye Time!
UID:11132
DTSTAMP:20260420T172400Z
DTSTART:20260708T210000Z
DTEND:20260708T220000Z
LOCATION:215 E Goodwin St, Prescott, AZ 86303, United States
ROOM: Library Lawn
DESCRIPTION:Unearth your colorful side with tie dye, sidewalk chalk, and m
 essy art! For youth of all ages. Please bring a piece of clothing or fabr
 ic to tie dye. Dye will be provided.In case of rain, activities will move 
 indoors to the Founders Suite.Presented with funding from the Friends of t
 he Prescott Public Library.
URL:https://prescottpl.librarycalendar.com/event/tie-dye-time-11132
END:VEVENT
END:VCALENDAR
